BEGIN:VCALENDAR
VERSION:2.0
PRODID:-//Veterans Outreach Ministries - ECPv6.15.20//NONSGML v1.0//EN
CALSCALE:GREGORIAN
METHOD:PUBLISH
X-ORIGINAL-URL:https://www.veteransoutreachministries.org
X-WR-CALDESC:Events for Veterans Outreach Ministries
REFRESH-INTERVAL;VALUE=DURATION:PT1H
X-Robots-Tag:noindex
X-PUBLISHED-TTL:PT1H
BEGIN:VTIMEZONE
TZID:America/New_York
BEGIN:DAYLIGHT
TZOFFSETFROM:-0500
TZOFFSETTO:-0400
TZNAME:EDT
DTSTART:20240310T070000
END:DAYLIGHT
BEGIN:STANDARD
TZOFFSETFROM:-0400
TZOFFSETTO:-0500
TZNAME:EST
DTSTART:20241103T060000
END:STANDARD
BEGIN:DAYLIGHT
TZOFFSETFROM:-0500
TZOFFSETTO:-0400
TZNAME:EDT
DTSTART:20250309T070000
END:DAYLIGHT
BEGIN:STANDARD
TZOFFSETFROM:-0400
TZOFFSETTO:-0500
TZNAME:EST
DTSTART:20251102T060000
END:STANDARD
BEGIN:DAYLIGHT
TZOFFSETFROM:-0500
TZOFFSETTO:-0400
TZNAME:EDT
DTSTART:20260308T070000
END:DAYLIGHT
BEGIN:STANDARD
TZOFFSETFROM:-0400
TZOFFSETTO:-0500
TZNAME:EST
DTSTART:20261101T060000
END:STANDARD
END:VTIMEZONE
BEGIN:VEVENT
DTSTART;VALUE=DATE:20250616
DTEND;VALUE=DATE:20250617
DTSTAMP:20260421T182326
CREATED:20250529T165926Z
LAST-MODIFIED:20250529T170922Z
UID:4354-1750032000-1750118399@www.veteransoutreachministries.org
SUMMARY:Happy Father's Day!
DESCRIPTION:Happy Father’s Day to all of the incredible dads out there! Today\, we celebrate you –  the men who inspire us with your strength\, love\, unwavering support\, and the countless ways you make a difference. Thank you for everything you do and for being the amazing dads that you are!
URL:https://www.veteransoutreachministries.org/event/happy-fathers-day/
LOCATION:MD
CATEGORIES:Community
ATTACH;FMTTYPE=image/jpeg:https://www.veteransoutreachministries.org/wp-content/uploads/2025/05/June16.jpg
ORGANIZER;CN="Veterans Outreach Ministries":MAILTO:tjhogate3@comcast.net
END:VEVENT
END:VCALENDAR