BEGIN:VCALENDAR
VERSION:2.0
PRODID:-//Veterans Outreach Ministries - ECPv6.15.20//NONSGML v1.0//EN
CALSCALE:GREGORIAN
METHOD:PUBLISH
X-ORIGINAL-URL:https://www.veteransoutreachministries.org
X-WR-CALDESC:Events for Veterans Outreach Ministries
REFRESH-INTERVAL;VALUE=DURATION:PT1H
X-Robots-Tag:noindex
X-PUBLISHED-TTL:PT1H
BEGIN:VTIMEZONE
TZID:America/New_York
BEGIN:DAYLIGHT
TZOFFSETFROM:-0500
TZOFFSETTO:-0400
TZNAME:EDT
DTSTART:20240310T070000
END:DAYLIGHT
BEGIN:STANDARD
TZOFFSETFROM:-0400
TZOFFSETTO:-0500
TZNAME:EST
DTSTART:20241103T060000
END:STANDARD
BEGIN:DAYLIGHT
TZOFFSETFROM:-0500
TZOFFSETTO:-0400
TZNAME:EDT
DTSTART:20250309T070000
END:DAYLIGHT
BEGIN:STANDARD
TZOFFSETFROM:-0400
TZOFFSETTO:-0500
TZNAME:EST
DTSTART:20251102T060000
END:STANDARD
BEGIN:DAYLIGHT
TZOFFSETFROM:-0500
TZOFFSETTO:-0400
TZNAME:EDT
DTSTART:20260308T070000
END:DAYLIGHT
BEGIN:STANDARD
TZOFFSETFROM:-0400
TZOFFSETTO:-0500
TZNAME:EST
DTSTART:20261101T060000
END:STANDARD
END:VTIMEZONE
BEGIN:VEVENT
DTSTART;TZID=America/New_York:20250617T183500
DTEND;TZID=America/New_York:20250617T210000
DTSTAMP:20260421T182308
CREATED:20250529T142557Z
LAST-MODIFIED:20250529T192310Z
UID:4316-1750185300-1750194000@www.veteransoutreachministries.org
SUMMARY:Community Nightout with Blue Rocks
DESCRIPTION:Kick off the summer with a celebration of all things MOT! Come out to support the Wilmington Blue Rocks and to enjoy the Blue Rocks’ 10th Annual Community Night! Bring the family out to the ball game\, as we congratulate our scholarship recipient\, network\, and have a fun-filled evening with Rocky & Mr. Celery! \n \nFacebook Event listing: https://www.facebook.com/share/16HeFZ3i5C/\n\nWhen: Tuesday\, June 17th \nWilmington Blue Rocks vs. Asheville Tourists\n​Game Time: 6:35 p.m.\nMACC SKYBOX SPONSORSHIPS & TICKETS\n \nSKYBOX Ticket $55\n(includes dinner\, beverage\, prizes\, networking & a great view of the game!)\nNon-member skybox tickets $75\n \nGrand Slam (1) available $1000\n\n8Tickets to the Skybox\, including dinner\,\nbeverage and snacks\, \nsignage\, 6 ft table on mezzanine\, \ncompany recognition via video board and over PA during the game\, promotion on MACC website\n\n\n\nHome Run (3) available $500\n4 Tickets to the Skybox\, including dinner\,\nbeverage and snacks\, \nsignage\, company recognition via video board and over PA during the game\, promotion on MACC website\n\nOther sponsorships available \n\nSouvenir Sponsor $500 – Recognition for Suite Souvenirs\nDinner Sponsor $300 – Recognition sign in the Skybox\, and in media as a sponsor\nBeverage Sponsor $300 – Recognition sign in the Skybox\, and in media as a sponsor\nSnack Sponsor $200 – Recognition sign in the Skybox\, and in media as a sponsor\nTable Sponsor $200 – Table on the main walkway within the Stadium\, and recognition as a sponsor\nLimited SKYBOX Sponsorships & Tickets\nare available on a first come\, first served basis through the MACC! 
URL:https://www.veteransoutreachministries.org/event/community-nightout-with-blue-rocks/
LOCATION:Wilmington Blue Rocks Stadium\, Frawley Stadium\, 801 Shipyard Dr\, Wilmington\, DE 19801\, Wilmington\, DE\, 19801\, United States
CATEGORIES:Community
ATTACH;FMTTYPE=image/webp:https://www.veteransoutreachministries.org/wp-content/uploads/2025/05/Blue-Rocks-Stadium.webp
END:VEVENT
END:VCALENDAR