BEGIN:VCALENDAR
VERSION:2.0
PRODID:-//Veterans Outreach Ministries - ECPv6.15.20//NONSGML v1.0//EN
CALSCALE:GREGORIAN
METHOD:PUBLISH
X-WR-CALNAME:Veterans Outreach Ministries
X-ORIGINAL-URL:https://www.veteransoutreachministries.org
X-WR-CALDESC:Events for Veterans Outreach Ministries
REFRESH-INTERVAL;VALUE=DURATION:PT1H
X-Robots-Tag:noindex
X-PUBLISHED-TTL:PT1H
BEGIN:VTIMEZONE
TZID:UTC
BEGIN:STANDARD
TZOFFSETFROM:+0000
TZOFFSETTO:+0000
TZNAME:UTC
DTSTART:20240101T000000
END:STANDARD
END:VTIMEZONE
BEGIN:VEVENT
DTSTART;VALUE=DATE:20250621
DTEND;VALUE=DATE:20250622
DTSTAMP:20260421T182216
CREATED:20250529T144619Z
LAST-MODIFIED:20250529T192416Z
UID:4322-1750464000-1750550399@www.veteransoutreachministries.org
SUMMARY:CHEP Outpost Grand Opening
DESCRIPTION:We are so excited to announce the Grand Opening of CHEP Outpost will be on June 21\, 2025! Get ready for great deals\, good community\, and much\, much more! Share with your friends to spread the word and stay tuned for sneak peeks\, exciting updates\, and maybe even a giveaway or two! \n\n\n\nCan’t wait? There are a lot of ways you can get involved before then!\n\n\n\nJoin their volunteer team and support your local community:\nhttps://forms.office.com/r/cM8J0mCP6S\n\n\n\nDonate and help veterans in need:\nhttps://chepoutpost.org/pages/give-now\n\n\nFacebook Event listing: https://www.facebook.com/share/19TWSSyceH/\n\n\n\n\n100% of proceeds benefit CHEP\, Inc.\, a 501(c)(3) nonprofit\n\n\nLocation:\n124 Greenmount Rd\, \nBuilding #2 \nRising Sun\, MD 21911 \n  \nContact Information:\nCHEP\, Chesapeake Health Education Program\nhttps://chepoutpost.org/ \n 
URL:https://www.veteransoutreachministries.org/event/chep-outpost-grand-opening/
LOCATION:CHEP Outpost\, 124 Greenmount Rd\, Building #2 Rising Sun\, MD 21911\, Rising Sun\, MD\, 21911\, United States
CATEGORIES:Business,Community
ATTACH;FMTTYPE=image/jpeg:https://www.veteransoutreachministries.org/wp-content/uploads/2025/05/CHEP-Outpost-Grand-Opening.jpg
ORGANIZER;CN="CHEP Outpost":MAILTO:outpost@chepinc.org
END:VEVENT
END:VCALENDAR