BEGIN:VCALENDAR
VERSION:2.0
PRODID:-//Veterans Outreach Ministries - ECPv6.15.20//NONSGML v1.0//EN
CALSCALE:GREGORIAN
METHOD:PUBLISH
X-WR-CALNAME:Veterans Outreach Ministries
X-ORIGINAL-URL:https://www.veteransoutreachministries.org
X-WR-CALDESC:Events for Veterans Outreach Ministries
REFRESH-INTERVAL;VALUE=DURATION:PT1H
X-Robots-Tag:noindex
X-PUBLISHED-TTL:PT1H
BEGIN:VTIMEZONE
TZID:UTC
BEGIN:STANDARD
TZOFFSETFROM:+0000
TZOFFSETTO:+0000
TZNAME:UTC
DTSTART:20240101T000000
END:STANDARD
END:VTIMEZONE
BEGIN:VEVENT
DTSTART;TZID=UTC:20250710T180000
DTEND;TZID=UTC:20250710T200000
DTSTAMP:20260421T170149
CREATED:20250529T161334Z
LAST-MODIFIED:20250530T015239Z
UID:4345-1752170400-1752177600@www.veteransoutreachministries.org
SUMMARY:VOM Meeting Starting at 6 PM - July 2025
DESCRIPTION:VOM Meeting on July 10\, 2025. The Board meeting will take place starting at 6 pm\, and then the regular VOM Meeting will begin at 6:30 pm. All are welcome to see what the Veterans’ Outreach Ministries is all about! \nShare the Facebook Event: https://www.facebook.com/share/16f5MHtLUR/ \n  \nFor more information\, please contact: \nTom Hogate ~ E-Mail: ThomasHogate@gmail.com \n  \nLocation: \nGlasgow Baptist Church \n3021 County Line Rd\,\nNewark\, DE 19702
URL:https://www.veteransoutreachministries.org/event/vom-meeting-starting-at-6pm-july-2025/
LOCATION:Glasgow Baptist Church\, Glasgow Baptist Church\, 3021 Old County Rd\, Newark\, DE\, United States
CATEGORIES:VA Events
ATTACH;FMTTYPE=image/jpeg:https://www.veteransoutreachministries.org/wp-content/uploads/2020/08/VOMMeeting.jpg
ORGANIZER;CN="Veterans Outreach Ministries":MAILTO:tjhogate3@comcast.net
END:VEVENT
END:VCALENDAR