BEGIN:VCALENDAR
VERSION:2.0
PRODID:-//Veterans Outreach Ministries - ECPv6.15.20//NONSGML v1.0//EN
CALSCALE:GREGORIAN
METHOD:PUBLISH
X-ORIGINAL-URL:https://www.veteransoutreachministries.org
X-WR-CALDESC:Events for Veterans Outreach Ministries
REFRESH-INTERVAL;VALUE=DURATION:PT1H
X-Robots-Tag:noindex
X-PUBLISHED-TTL:PT1H
BEGIN:VTIMEZONE
TZID:UTC
BEGIN:STANDARD
TZOFFSETFROM:+0000
TZOFFSETTO:+0000
TZNAME:UTC
DTSTART:20240101T000000
END:STANDARD
END:VTIMEZONE
BEGIN:VEVENT
DTSTART;TZID=UTC:20250717T100000
DTEND;TZID=UTC:20250717T133000
DTSTAMP:20260421T170307
CREATED:20250529T163031Z
LAST-MODIFIED:20250529T193215Z
UID:4347-1752746400-1752759000@www.veteransoutreachministries.org
SUMMARY:VOM Veterans Roundtable Discussion
DESCRIPTION:On Thursday\, July 17th\, 2025\, from 10 am-1:30 pm\, join the Veteran Outreach Ministries for an open discussion and networking opportunity. This veterans/business networking outreach event is about the support of veterans in starting and succeeding in their spiritual life and the local community environment.\n\nFacebook Event listing: https://www.facebook.com/share/1EtwZm2pAZ/\n\nLocation: Glasgow Baptist Church\n3021 County Line Rd\,\nNewark\, DE 19702\n\nFor more information\, please contact:\nTom Hogate ~ E-Mail: ThomasHogate@gmail.com
URL:https://www.veteransoutreachministries.org/event/vom-roundtable-discussion-july-17/
LOCATION:Glasgow Baptist Church\, Glasgow Baptist Church\, 3021 Old County Rd\, Newark\, DE\, United States
CATEGORIES:VA Events
ATTACH;FMTTYPE=image/png:https://www.veteransoutreachministries.org/wp-content/uploads/2025/05/2025-July_discussion.png
ORGANIZER;CN="Veterans Outreach Ministries":MAILTO:tjhogate3@comcast.net
END:VEVENT
END:VCALENDAR