BEGIN:VCALENDAR
VERSION:2.0
PRODID:-//Veterans Outreach Ministries - ECPv6.15.20//NONSGML v1.0//EN
CALSCALE:GREGORIAN
METHOD:PUBLISH
X-WR-CALNAME:Veterans Outreach Ministries
X-ORIGINAL-URL:https://www.veteransoutreachministries.org
X-WR-CALDESC:Events for Veterans Outreach Ministries
REFRESH-INTERVAL;VALUE=DURATION:PT1H
X-Robots-Tag:noindex
X-PUBLISHED-TTL:PT1H
BEGIN:VTIMEZONE
TZID:UTC
BEGIN:STANDARD
TZOFFSETFROM:+0000
TZOFFSETTO:+0000
TZNAME:UTC
DTSTART:20240101T000000
END:STANDARD
END:VTIMEZONE
BEGIN:VEVENT
DTSTART;TZID=UTC:20250810T090000
DTEND;TZID=UTC:20250810T180000
DTSTAMP:20260421T152844
CREATED:20250529T184231Z
LAST-MODIFIED:20250529T193530Z
UID:4368-1754816400-1754848800@www.veteransoutreachministries.org
SUMMARY:Delaware Fun-A-Day Art Show August 10th 2025
DESCRIPTION:This is the 13th Annual Delaware Fun-A-Day! \nSign up to take on the challenge this year and make 1 piece of artwork each day in July. Follow along on social media to see projects in progress\, artist interviews\, and updates about the art show. HUGE thank you to our 2025 sponsor: Delaware Division of the Arts. \nLocation: The exhibit venue this year is The Courtyard by Marriott (University of Delaware Campus) in Newark\, DE. \nExhibit hours will be:  \n\nSaturday\, August 9th\, from 4-9 pm for the Opening Reception.\nSunday\, August 10th\, from 9-6 pm.\n\nWe can’t wait to see you all again! \nYou can view updates on Delaware Fun-A-Day’s Facebook Page here: https://www.facebook.com/share/1C8qMjN8vD/
URL:https://www.veteransoutreachministries.org/event/delaware-fun-a-day-art-show-aug-10/
LOCATION:The Courtyard by Marriot\, 400 David Hollowell Dr\, Newark\, DE 19716\, Newark\, 19716\, United States
CATEGORIES:Community
ATTACH;FMTTYPE=image/png:https://www.veteransoutreachministries.org/wp-content/uploads/2025/05/DEFAD2025_FacebookEvent.png
ORGANIZER;CN="Delaware Fun-A-Day":MAILTO:delawarefunaday@gmail.com
END:VEVENT
END:VCALENDAR