BEGIN:VCALENDAR
VERSION:2.0
PRODID:-//Veterans Outreach Ministries - ECPv6.15.20//NONSGML v1.0//EN
CALSCALE:GREGORIAN
METHOD:PUBLISH
X-ORIGINAL-URL:https://www.veteransoutreachministries.org
X-WR-CALDESC:Events for Veterans Outreach Ministries
REFRESH-INTERVAL;VALUE=DURATION:PT1H
X-Robots-Tag:noindex
X-PUBLISHED-TTL:PT1H
BEGIN:VTIMEZONE
TZID:UTC
BEGIN:STANDARD
TZOFFSETFROM:+0000
TZOFFSETTO:+0000
TZNAME:UTC
DTSTART:20250101T000000
END:STANDARD
END:VTIMEZONE
BEGIN:VEVENT
DTSTART;TZID=UTC:20260212T180000
DTEND;TZID=UTC:20260212T200000
DTSTAMP:20260421T070422
CREATED:20260102T231039Z
LAST-MODIFIED:20260204T220615Z
UID:4574-1770919200-1770926400@www.veteransoutreachministries.org
SUMMARY:VOM Meeting - February 2026
DESCRIPTION:Join Us — You’re Welcome Here\nCurious about what Veterans Outreach Ministries does or looking for a way to get involved? Join us for our February VOM Meeting. This is a relaxed\, welcoming evening to connect\, learn about upcoming initiatives\, and see how we support veterans in our community. \nAll are welcome — veterans\, family members\, and community supporters alike. \nVOM Meeting on February 12\, 2026. The Board meeting will take place starting at 6pm\, and then the regular VOM Meeting will begin at 6:30pm. \nShare the Facebook Event:\nhttps://www.facebook.com/events/666903016418337 \nFor more information\, please contact:\nThomas Hogate\, Board President\nE-Mail: ThomasHogate@gmail.com \nLocation:\nGlasgow Baptist Church\n3021 County Line Rd\,\nNewark\, DE 19702
URL:https://www.veteransoutreachministries.org/event/vom-meeting-february-2026/
LOCATION:Glasgow Baptist Church\, Glasgow Baptist Church\, 3021 Old County Rd\, Newark\, DE\, United States
CATEGORIES:VA Events
ATTACH;FMTTYPE=image/png:https://www.veteransoutreachministries.org/wp-content/uploads/2026/01/2026_VOM_Meeting_Feb_UPDATED.png
ORGANIZER;CN="Veterans Outreach Ministries":MAILTO:tjhogate3@comcast.net
END:VEVENT
END:VCALENDAR