BEGIN:VCALENDAR
VERSION:2.0
PRODID:-//Veterans Outreach Ministries - ECPv6.15.20//NONSGML v1.0//EN
CALSCALE:GREGORIAN
METHOD:PUBLISH
X-WR-CALNAME:Veterans Outreach Ministries
X-ORIGINAL-URL:https://www.veteransoutreachministries.org
X-WR-CALDESC:Events for Veterans Outreach Ministries
REFRESH-INTERVAL;VALUE=DURATION:PT1H
X-Robots-Tag:noindex
X-PUBLISHED-TTL:PT1H
BEGIN:VTIMEZONE
TZID:UTC
BEGIN:STANDARD
TZOFFSETFROM:+0000
TZOFFSETTO:+0000
TZNAME:UTC
DTSTART:20180101T000000
END:STANDARD
END:VTIMEZONE
BEGIN:VEVENT
DTSTART;TZID=UTC:20190910T080000
DTEND;TZID=UTC:20190910T080000
DTSTAMP:20260422T200024
CREATED:20190617T144132Z
LAST-MODIFIED:20190617T144132Z
UID:1783-1568102400-1568102400@www.veteransoutreachministries.org
SUMMARY:CHEP Golf Outing
DESCRIPTION:Join us on the course for the 2nd Annual CHEP Golf Outing\, Tuesday September 10 at Ruggles Golf Course on Aberdeen Proving Ground. Enjoy a day out on the course with food\, drinks\, networking and of course\, golf\, to support our American Veterans in need. \nAll proceeds benefit the CHEP Transition Housing Program for Homeless Veterans which provides them with life-saving support services. Our goal is to return each Veteran who enters our program to independent\, dignified living in their community. \nFees & Schedule\nFees\n$150 per Golfer\n$600 per Foursome \nEarly Bird Registration: $125 per Golfer | $500 per Foursome\nAvailable until June 10\, 2019 \nRegistration fee includes: \n\nContinental Breakfast\nGreen fees for 18 holes of golf with cart\nTicket to post round Awards Luncheon\nCourse Contests\, Basket Raffles\, Prizes and more!\n\nSchedule\n8:00AM – Registration\n9:00AM – Shotgun Start\n2:00 – 4:00PM – Awards Luncheon \nREGISTER HERE \nSponsorships Available\nSupport of the CHEP Golf Outing is available at various levels including in-kind and auction item donations. \n2nd Annual CHEP Golf Outing Sponsorship Opportunities include: \n\nTournament Souvenir Sponsor\nPresenting Sponsor(s)\nAwards Luncheon Sponsor\nBeverage Cart Sponsor(s) and more…\n\nClick here to view our Sponsorship Prospectus \nTo secure your sponsorship and for more information please contact Carissa Merritt at 410-642-1195 or cmerritt@chepinc.org.
URL:https://www.veteransoutreachministries.org/event/chep-golf-outing-2019/
LOCATION:Ruggles Golf Course\, 5600 Maryland Blvd\, Aberdeen Proving Ground\, 21005\, United States
CATEGORIES:Community,Fundraiser
ATTACH;FMTTYPE=image/png:https://www.veteransoutreachministries.org/wp-content/uploads/2019/06/chep.png
ORGANIZER;CN="Carissa Merritt":MAILTO:cmerritt@chepinc.org
END:VEVENT
BEGIN:VEVENT
DTSTART;TZID=UTC:20190907T150000
DTEND;TZID=UTC:20190907T190000
DTSTAMP:20260422T200024
CREATED:20190417T191817Z
LAST-MODIFIED:20190605T170748Z
UID:1620-1567868400-1567882800@www.veteransoutreachministries.org
SUMMARY:Tap into the Tavern
DESCRIPTION:Beer\, Wine\, and History! \nTap into the Tavern\nSeptember 7\, 2019 from 3-7pm. \n$25 per person / $5 for Desginated Driver\nLive Music and Food Trucks\nTickets at www.ticketleap.com \nLocated at Historic Rodgers Tavern\n259 Broad Street\nPerryville\, MD 21903
URL:https://www.veteransoutreachministries.org/event/tap-into-the-tavern-2/
LOCATION:Rodgers Tavern\, 259 Broad Street\, Perryville\, MD\, 21903\, United States
CATEGORIES:Community
ATTACH;FMTTYPE=image/jpeg:https://www.veteransoutreachministries.org/wp-content/uploads/2019/04/TapIntotheTavern.jpg
END:VEVENT
BEGIN:VEVENT
DTSTART;TZID=UTC:20190810T130000
DTEND;TZID=UTC:20190810T180000
DTSTAMP:20260422T200024
CREATED:20190417T191125Z
LAST-MODIFIED:20190605T170243Z
UID:1616-1565442000-1565460000@www.veteransoutreachministries.org
SUMMARY:Lower Ferry Festival
DESCRIPTION:Food Trucks – Live Music – Kids Games\nCar Cruise – Vendors – Cornhole\nTournament – Beer & Wine \nAugust 10\, 2019 from 1-6pm \nLower Ferry Park\nFREE Admission \nwww.PerryvilleMD.org \nContact: Billy Nelson at 410-642-6066
URL:https://www.veteransoutreachministries.org/event/lower-ferry-festival-3/
LOCATION:Lower Ferry Festival\, 104 Roundhouse Drive\, Perryville\, MD\, 21903\, United States
CATEGORIES:Community
ATTACH;FMTTYPE=image/png:https://www.veteransoutreachministries.org/wp-content/uploads/2019/04/Screen-Shot-2019-04-17-at-11.10.29-AM.png
END:VEVENT
BEGIN:VEVENT
DTSTART;TZID=UTC:20190718T113000
DTEND;TZID=UTC:20190718T183000
DTSTAMP:20260422T200024
CREATED:20190612T160849Z
LAST-MODIFIED:20190612T164726Z
UID:1745-1563449400-1563474600@www.veteransoutreachministries.org
SUMMARY:14th Annual Golf Outing
DESCRIPTION:Hosted by the Middletown Area Chamber of Commerce\, this event is to help raise scholarship funding. \nRain or Shine Event:\n11am Registration\n12pm Shotgun Starts\n5:30pm Dinner\, Awards \nRegister Here.
URL:https://www.veteransoutreachministries.org/event/14th-annual-golf-outing/
CATEGORIES:Community,Fundraiser
ORGANIZER;CN="Roxane Ferguson":MAILTO:info@maccde.com
END:VEVENT
BEGIN:VEVENT
DTSTART;TZID=UTC:20190622T080000
DTEND;TZID=UTC:20190622T170000
DTSTAMP:20260422T200024
CREATED:20190417T190445Z
LAST-MODIFIED:20190605T171006Z
UID:1613-1561190400-1561222800@www.veteransoutreachministries.org
SUMMARY:DE Head to Toe Cycling Relay
DESCRIPTION:‘Ride the Length of Delaware’. Save the Date for June 22\, 2019. You gotta try this ride! \nFor More Info:\nEvette Morrow\nof Elm Properties \nPhone:\n302-229-8723 cell\n302-762-3757 office \nWebsite:\nwww.grumpygramps.org
URL:https://www.veteransoutreachministries.org/event/de-head-to-toe-cycling-relay/
CATEGORIES:Community,Health & Wellness
ATTACH;FMTTYPE=image/jpeg:https://www.veteransoutreachministries.org/wp-content/uploads/2019/04/HeadtoToe.jpg
END:VEVENT
BEGIN:VEVENT
DTSTART;TZID=UTC:20190525T093000
DTEND;TZID=UTC:20190525T120000
DTSTAMP:20260422T200024
CREATED:20190417T192937Z
LAST-MODIFIED:20190417T192937Z
UID:1624-1558776600-1558785600@www.veteransoutreachministries.org
SUMMARY:3rd Annual Veterans Thank You Brunch
DESCRIPTION:Before you begin the celebrate Memorial Day weekend\, please plan to attend the 3rd Annual Veterans Thank You Brunch on May 25\, 2019 from 9:30am to 12:00pm. Hosted by Veteran’s Outreach Ministries at Friendship Baptist Church\, 2200 Gasgow Avenue\, Newark\, DE. \nColor Guard\, Special Guest Speakers\, and Door Prizes. \nMenu: Scrambled eggs\, sausage (links and patties)\, bacon\, french toast\, fruit\, juice and coffee. \nPlease RSVP by May 16\, 2019 as seating is limited. \nContact Tom Hogate at tjhogate@comcast.net \nCorporate Sponsors: \nGold – Elm Properties\nSilver – Brennan Associates\nBronze – Chuck Redstone State Farm Insurance \n 
URL:https://www.veteransoutreachministries.org/event/3rd-annual-veterans-thank-you-brunch/
LOCATION:Oasis Church\, 2200 Glasgow Avenue\, Newark\, DE\, 19702\, United States
CATEGORIES:Community,VA Events
END:VEVENT
BEGIN:VEVENT
DTSTART;TZID=UTC:20190515T083000
DTEND;TZID=UTC:20190515T153000
DTSTAMP:20260422T200024
CREATED:20190417T185806Z
LAST-MODIFIED:20190417T185806Z
UID:1610-1557909000-1557934200@www.veteransoutreachministries.org
SUMMARY:Bridges Out of Poverty
DESCRIPTION:The Cecil County local management board\, in partnership with the Paris Foundation\, is pleased to host ahal Process\, Inc. for Bridges Out of Poverty. \nThis workshop offers a comprehensive approach to understanding poverty. Bridges Out of Poverty uses the lens of economic class and provides concrete tools and strategies for a community to alleviate poverty. \nWhen: May 15th from 8:30am until 3:30pm\nWhere: The Paris Foundation at 229 S. Bridge Street in Elkton\, MD \nCoffee and pastries will be provided\, lunch will be on your own. CEU’s will not be offered. \nRSVP by May 1st to bstrunk@ccgov.org or 410-996-8426
URL:https://www.veteransoutreachministries.org/event/bridges-out-of-poverty/
LOCATION:The Paris Foundation\, 229 South Bridge Street\, Elkton\, DE\, 21921\, United States
CATEGORIES:Community
END:VEVENT
BEGIN:VEVENT
DTSTART;TZID=UTC:20190511T120000
DTEND;TZID=UTC:20190511T160000
DTSTAMP:20260422T200024
CREATED:20190417T183620Z
LAST-MODIFIED:20190417T183700Z
UID:1601-1557576000-1557590400@www.veteransoutreachministries.org
SUMMARY:Casting with Cops
DESCRIPTION:Join NCCPD for the 3rd Annual Casting with Cops event at Glasgow Park’s catch and release fishing pond. Bring a rod\, bait and your hat for catch and release fishing with New Castle County Cops at the stocked pond at Glasgow Park. Enjoy demonstrations from the Mounted and K9 units\, moon bounces\, food trucks and much more! \nWebsite: https://nccde.org/Calendar.aspx?EID=5657 \nSponsored by the Ronnie Williams Foundation.
URL:https://www.veteransoutreachministries.org/event/casting-with-cops/
LOCATION:Glasgow Park\, 2275 Pulaski Highway\, Newark\, DE\, 19702\, United States
CATEGORIES:Community,Politics
ATTACH;FMTTYPE=image/png:https://www.veteransoutreachministries.org/wp-content/uploads/2019/04/cating.png
END:VEVENT
END:VCALENDAR